BEGIN:VCALENDAR
PRODID:NingEventWidget-v1
VERSION:2.0
METHOD:PUBLISH
BEGIN:VEVENT
UID:5167423:Event:63877
DTSTAMP:20260421T090220Z
SUMMARY:10th Annual Fleetwood Rotary Club Show of Wheels
DESCRIPTION:Rain or Shine. Show hosted by the Fleetwood Rotary Club an
 d the Fleetwod Fire Company Truck Crew. Registration 7:00 am – 11:30
  am judging at 12:00 noon awards at 3:00 pm. Pre-Registration $10.00 
  by June 11, after and day of show registration $15.00. Over 40 Trophi
 es, participant judged, Goody bags and dash plaques to the first 125 r
 egistered vehicles, spectators are free. GOOD Food, Music, Shade and T
 IMES! Pre-Registered Vendor Spaces ONLY $15.00 10×30 or 20×20 by Jun
 e 11. Make checks payable to: The Fleetwood Rotary Charitable Foundati
 on Mail to: J.B. Long, 110 W. Arch Street, Suite 214, Fleetwood, PA 19
 522 e-mail: carshow@jblong.com or www.FleetwoodPaRotary.org\n\nFor mor
 e information visit https://northeastwheelsevents.com/events/10th-annu
 al-fleetwood-rotary-club-show-of-wheels
DTSTART:20150613T110000Z
DTEND:20150613T200000Z
CATEGORIES:car, truck, "&", motorcycle, show
LOCATION:Fleetwood Community Park
WEBSITE:http://www.FleetwoodPa Rotary.org
URL:http://www.FleetwoodPa Rotary.org
CONTACT:484-575-8113
ORGANIZER;CN="Jim Long":https://northeastwheelsevents.com/profile/JimL
 ong
ATTACH;FMTTYPE="image/jpeg":http://storage.ning.com/topology/rest/1.0/
 file/get/2284056331?profile=original
ATTENDEE;ROLE=REQ-PARTICIPANT;PARTSTAT=ACCEPTED;RSVP=TRUE;CN="Jim Long
 ":https://northeastwheelsevents.com/profile/JimLong
END:VEVENT
END:VCALENDAR
