BEGIN:VCALENDAR
PRODID:NingEventWidget-v1
VERSION:2.0
METHOD:PUBLISH
BEGIN:VEVENT
UID:5167423:Event:308765
DTSTAMP:20260422T004059Z
SUMMARY:11th Annual Classic Car Cruise-In Benefiting Cancer Support Co
 mmunity Delaware
DESCRIPTION:Rain date Sunday, August 6, 2023\n\nOpen to all makes and 
 models\nProfessionally Judged \n\nOnline Early Registration $10 befor
 e July 31, 2023\nRegistration $20 from 9:45 AM - 11 AM\nJudging 11 AM 
 - 1 PM\n\nFor more information visit https://northeastwheelsevents.com
 /events/11th-annual-classic-car-cruise-in-benefiting-cancer-support
DTSTART:20230805T160000Z
DTEND:20230805T190000Z
CATEGORIES:car, show
LOCATION:Saint Mark's High School
WEBSITE:https://rebrand.ly/4ntn2d6
URL:https://rebrand.ly/4ntn2d6
CONTACT:3029836966
ORGANIZER;CN="LaBarre Everette":https://northeastwheelsevents.com/prof
 ile/LaBarreEverette
ATTACH;FMTTYPE="image/jpeg":https://storage.ning.com/topology/rest/1.0
 /file/get/10858515297?profile=original
ATTENDEE;ROLE=REQ-PARTICIPANT;PARTSTAT=ACCEPTED;RSVP=TRUE;CN="LaBarre 
 Everette":https://northeastwheelsevents.com/profile/LaBarreEverette
END:VEVENT
END:VCALENDAR
