BEGIN:VCALENDAR
PRODID:NingEventWidget-v1
VERSION:2.0
METHOD:PUBLISH
BEGIN:VEVENT
UID:5167423:Event:260725
DTSTAMP:20260425T201016Z
SUMMARY:11th Annual DTE/Hershey AACA Museum INC Matchbox Toy Show
DESCRIPTION:  DTE Diecast Toy Exchange is proud to announce\nour 11th
  Annual Hershey Matchbox Diecast Toy Show\nwill be held on Sunday Sept
 ember 27, 2020 9am-3pm.\nLocation is AACA Museum Inc.\n161 Museum Driv
 e, Hershey Pa\n\nFor more information visit https://northeastwheelseve
 nts.com/events/11th-annual-dte-hershey-aaca-museum-inc-matchbox-toy-sh
 ow
DTSTART:20200927T130000Z
DTEND:20200927T190000Z
CATEGORIES:matchbox, diecast, toy, show
LOCATION:AACA Museum Inc.
WEBSITE:
URL:
CONTACT:717-318-4073
ORGANIZER;CN="Wayne K Laughman":https://northeastwheelsevents.com/prof
 ile/WayneKLaughman
ATTACH;FMTTYPE="image/jpeg":
ATTENDEE;ROLE=REQ-PARTICIPANT;PARTSTAT=ACCEPTED;RSVP=TRUE;CN="Wayne K 
 Laughman":https://northeastwheelsevents.com/profile/WayneKLaughman
END:VEVENT
END:VCALENDAR
