BEGIN:VCALENDAR
PRODID:NingEventWidget-v1
VERSION:2.0
METHOD:PUBLISH
BEGIN:VEVENT
UID:5167423:Event:315705
DTSTAMP:20260422T004201Z
SUMMARY:12th Annual Rock-'n'-Roll Car Show judged by The Fabulous 50s 
 & 60s Nostalgia Car Club
DESCRIPTION:Sunday August 6 2023 9am to 4pm  rain date Sunday August 
 13 2023 judge show over 13 classes cars judge by The Fabulous 50s & 60
 s Nostalgia Car Club $20 spectators $10 per car DJ live bands craft ta
 ble food vendor's 50/50 blood pressure screening presented by Judy's S
 troke Awareness & Prevention all donations go to promoting Stroke Awar
 eness Prevention any questions call Bob 631-255-2516 or Arthur 631-463
 -4983 for additional donation's \n\nFor more information visit https:
 //northeastwheelsevents.com/events/12th-annual-rock-n-roll-car-show-ju
 dged-by-the-fabulous-50s-amp
DTSTART:20230806T130000Z
DTEND:20230806T200000Z
CATEGORIES:car, show, "/", fundraiser
LOCATION:Smithtown Historical Society
WEBSITE:http://www.judysrun.com
URL:http://www.judysrun.com
CONTACT:631-255-2516
ORGANIZER:Bob
ATTACH;FMTTYPE="image/jpeg":https://storage.ning.com/topology/rest/1.0
 /file/get/11488316459?profile=original
ATTENDEE;ROLE=REQ-PARTICIPANT;PARTSTAT=ACCEPTED;RSVP=TRUE;CN="john for
 lenza":https://northeastwheelsevents.com/profile/johnforlenza
END:VEVENT
END:VCALENDAR
