BEGIN:VCALENDAR
PRODID:NingEventWidget-v1
VERSION:2.0
METHOD:PUBLISH
BEGIN:VEVENT
UID:5167423:Event:232945
DTSTAMP:20260421T092830Z
SUMMARY:12th Annual Winter Beater Cruise
DESCRIPTION:Blizzard date - February 16\nDash plaques, 3 trophies for 
 the Ugliest Vehicles.\nShow cars optional if the weather is nice.\n\nF
 or more information visit https://northeastwheelsevents.com/events/12t
 h-annual-winter-beater-cruise
DTSTART:20190209T160000Z
DTEND:20190209T200000Z
CATEGORIES:cruise
LOCATION:Markets at Shrewsbury
WEBSITE:http://www.marketsatshrewsbury.com
URL:http://www.marketsatshrewsbury.com
CONTACT:
ORGANIZER;CN="Steve Smith":https://northeastwheelsevents.com/profile/S
 teveSmith
ATTACH;FMTTYPE="image/jpeg":https://storage.ning.com/topology/rest/1.0
 /file/get/932295138?profile=original
ATTENDEE;ROLE=REQ-PARTICIPANT;PARTSTAT=ACCEPTED;RSVP=TRUE;CN="Steve Sm
 ith":https://northeastwheelsevents.com/profile/SteveSmith
END:VEVENT
END:VCALENDAR
