BEGIN:VCALENDAR
PRODID:NingEventWidget-v1
VERSION:2.0
METHOD:PUBLISH
BEGIN:VEVENT
UID:5167423:Event:142640
DTSTAMP:20260423T134617Z
SUMMARY:1320 FAB
DESCRIPTION:Â Â  $5K TOP 1/8Â Â Â  $1K MOD 1/8Â  Summit Super SeriesÂ 
  Bracket Race â€“ All Classes (#2 Points Race)Â Â Â Â Â Â Â Â Â Â  Sum
 mit Super SeriesÂ  Jr. Dragster Race (#2Points Race)Â Â  #1Â  BAD BOYâ
 €™S 4.50Â Â Â Â Â Â  $250 JRâ€™S\n\n\n\nFor more information visit htt
 ps://northeastwheelsevents.com/events/1320-fab
DTSTART:20170415T130000Z
DTEND:20170416T030000Z
CATEGORIES:race
LOCATION:Capitol Raceway
WEBSITE:http://capitolraceway.com
URL:http://capitolraceway.com
CONTACT:(410)721-4575
ORGANIZER:
ATTACH;FMTTYPE="image/jpeg":http://storage.ning.com/topology/rest/1.0/
 file/get/2284094598?profile=original
ATTENDEE;ROLE=REQ-PARTICIPANT;PARTSTAT=ACCEPTED;RSVP=TRUE;CN="Christop
 her Gosney":https://northeastwheelsevents.com/profile/ChristopherGosne
 y
END:VEVENT
END:VCALENDAR
