BEGIN:VCALENDAR
PRODID:NingEventWidget-v1
VERSION:2.0
METHOD:PUBLISH
BEGIN:VEVENT
UID:5167423:Event:282015
DTSTAMP:20260422T043703Z
SUMMARY:13th annual Conventry Mall Motor Sports Show
DESCRIPTION:  \nCome in side the Mall and enjoy Some great cars and 
 see what the next year hold for us and the great Stores in the Mall...
 \nNOTE this is a DIRT TRACK race car show. Wicked Effects Car Club wil
 l have their cars there to show off as they help promote the event. \
 n\nFor more information visit https://northeastwheelsevents.com/events
 /13th-annual-conventry-mall-motor-sports-show
DTSTART:20210305T150000Z
DTEND:20210307T230000Z
CATEGORIES:motor, sports, show
LOCATION:Conventry Mall
WEBSITE:
URL:
CONTACT:
ORGANIZER;CN="Wicked Effects Car Club":https://northeastwheelsevents.c
 om/profile/WickedEffectsCarClub
ATTACH;FMTTYPE="image/jpeg":https://storage.ning.com/topology/rest/1.0
 /file/get/8423264481?profile=original
ATTENDEE;ROLE=REQ-PARTICIPANT;PARTSTAT=ACCEPTED;RSVP=TRUE;CN="Paul Lin
 kmeyer":https://northeastwheelsevents.com/profile/PaulLinkmeyer
ATTENDEE;ROLE=REQ-PARTICIPANT;PARTSTAT=ACCEPTED;RSVP=TRUE;CN="Wicked E
 ffects Car Club":https://northeastwheelsevents.com/profile/WickedEffec
 tsCarClub
END:VEVENT
END:VCALENDAR
