BEGIN:VCALENDAR
PRODID:NingEventWidget-v1
VERSION:2.0
METHOD:PUBLISH
BEGIN:VEVENT
UID:5167423:Event:334439
DTSTAMP:20260423T033449Z
SUMMARY:13th Annual Cruise In- Cayuta NY
DESCRIPTION:Join us for our 13th Annual Cruise In sponsored by Choice 
 Auto Glass!\r\n$5 to show your vehicle! Free admission and parking on 
 site! \r\nChicken BBQ, hot dogs, nachos, soda and water available for
  purchase! Music and Vendors!  \r\nhttps://www.choiceautoglass.com/;
 \n\nFor more information visit https://northeastwheelsevents.com/event
 s/13th-annual-cruise-in-cayuta-ny
DTSTART:20240928T140000Z
DTEND:20240928T190000Z
CATEGORIES:cruisein
LOCATION:Choice Auto Glass
WEBSITE:https://www.facebook.com/events/d41d8cd9/13th-annual-cruise-in
 /689829916681277/
URL:https://www.facebook.com/events/d41d8cd9/13th-annual-cruise-in/689
 829916681277/
CONTACT:607-594-6622
ORGANIZER:Choice Auto Glass
ATTACH;FMTTYPE="image/jpeg":https://storage.ning.com/topology/rest/1.0
 /file/get/12950423882?profile=original
ATTENDEE;ROLE=REQ-PARTICIPANT;PARTSTAT=ACCEPTED;RSVP=TRUE;CN="William 
 Bruce":https://northeastwheelsevents.com/profile/WilliamBruce
END:VEVENT
END:VCALENDAR
