BEGIN:VCALENDAR
PRODID:NingEventWidget-v1
VERSION:2.0
METHOD:PUBLISH
BEGIN:VEVENT
UID:5167423:Event:61446
DTSTAMP:20260423T224205Z
SUMMARY:15TH ANNUAL GREATER YORK TRAIN AND SLOT CAR SHOW
DESCRIPTION:COME , START OFF THE X-MAS SEASON WITH US....CARRERA SLOT 
 CAR RACING WITH REPRESENTATIVES FROM CARRERA, TRAIN SHOW AND NEW THIS 
 YEAR,,, MODEL KIT SHOW/CONTEST, PAY ING CASH PRIZES,, 5 CLASSES, $ 10
 0 PER CLASS WINNER..ABOUT 100 TABLES OF VENDORS, TRAINS, SLOT CARS, MO
 DELS,, ETC..JUST REMEMBER!!!!!!!!!!!!!!!!!!!!!!!!!!!!!!\nOLD MAIN BUIL
 DING AT THE YORK FAIRGROUNDS,,, OTHER BUILDINGS IN THE FAIRGROUNDS,,, 
 LOOKS LIKE A BIG BARN,,, YELLOW-GREEN--9-3\n\nFor more information vis
 it https://northeastwheelsevents.com/events/15th-annual-greater-york-t
 rain-and-slot-car-show
DTSTART:20141130T050000Z
DTEND:20141201T045900Z
CATEGORIES:train, and, slot, car, show
LOCATION:YORK PA FAIRGROUNDS, OLD MAIN BUILDING
WEBSITE:
URL:
CONTACT:717-515-3494
ORGANIZER;CN="Craig Holler":https://northeastwheelsevents.com/profile/
 CraigHoller
ATTACH;FMTTYPE="image/jpeg":
ATTENDEE;ROLE=REQ-PARTICIPANT;PARTSTAT=ACCEPTED;RSVP=TRUE;CN="Craig Ho
 ller":https://northeastwheelsevents.com/profile/CraigHoller
END:VEVENT
END:VCALENDAR
