BEGIN:VCALENDAR
PRODID:NingEventWidget-v1
VERSION:2.0
METHOD:PUBLISH
BEGIN:VEVENT
UID:5167423:Event:38724
DTSTAMP:20260423T213206Z
SUMMARY:15th Annual LCBC Motorsports Show & BBQ
DESCRIPTION:The 15th Annual LCBC Motorsports Show & BBQ will be held f
 rom 9:00 to 2:00 at LCBC Church in Manheim on Saturday, June 14, 2014.
   There are no costs to visitors or to enter your car, truck, motorcyc
 le, R/C Car, R/C Airplane, model car/truck or whatever vehicle you hav
 e.  This is a totally FREE event except for some of the best BBQ pork
  or brisket anywhere.  Participants and visitors are eligible to win g
 ifts and door prizes throughout the day.  There are 19 classes of veh
 icles to choose from. There will be Best of Show awarded at the end of
  the day.  Tickets are not required to attend the show but if you are 
 entering a vehicle please preregister so that we can plan accordingl
 y; and, come at 8:00 am with your car.  Preregistration will end at 1
 2:00PM Thursday, June 12.  If you know of someone who wishes to atten
 d, please have them register onsite on the day of the event.  This is 
 a great FREE activity for the entire family.  Go HERE to watch an
  HD video from last year.  Thanks and we look forward to having you at
  this year's LCBC Motorsports Show & BBQ.\n\nFor more information visi
 t https://northeastwheelsevents.com/events/15th-annual-lcbc-motorsport
 s-show-bbq
DTSTART:20140614T120000Z
DTEND:20140614T190000Z
CATEGORIES:motorsports, show, "&", bbq
LOCATION:LCBC Church
WEBSITE:https://www.google.com/maps/place/2392+Mt+Joy+Rd/@40.1290354,-
 76.4551549,14z/data=!4m2!3m1!1s0x89c62078148c23d5:0x75e4b7c2968d44a2
URL:https://www.google.com/maps/place/2392+Mt+Joy+Rd/@40.1290354,-76.4
 551549,14z/data=!4m2!3m1!1s0x89c62078148c23d5:0x75e4b7c2968d44a2
CONTACT:717-653-6266
ORGANIZER;CN="Floyd Soule":https://northeastwheelsevents.com/profile/F
 loydSoule
ATTACH;FMTTYPE="image/jpeg":http://storage.ning.com/topology/rest/1.0/
 file/get/2284057966?profile=original
ATTENDEE;ROLE=REQ-PARTICIPANT;PARTSTAT=ACCEPTED;RSVP=TRUE;CN="Floyd So
 ule":https://northeastwheelsevents.com/profile/FloydSoule
END:VEVENT
END:VCALENDAR
