BEGIN:VCALENDAR
PRODID:NingEventWidget-v1
VERSION:2.0
METHOD:PUBLISH
BEGIN:VEVENT
UID:5167423:Event:38896
DTSTAMP:20260424T040030Z
SUMMARY:16th Annual Spring Dust off Car Show & Blood Drive
DESCRIPTION:16th Annual Spring Dust off Car Show & Blood Drive Sunday 
 April 6th Car Show 9-4 Blood Drive 11-3 New York Hospitals of Queens M
 aspeth Federal Saving Bank Parking Lot 69th Street off of Grand Avenue
  Maspeth NY Show Car $20.00 Goody bags, Raffles 50/50 Trophies Live Mu
 sic from Joe Fuoco and he Band www.eccatoysfortots.org facebook ECCA t
 oys4tots Info call Bob 917-385-2322 or Lou 917-682-5362 All donations 
 go to St Mary's Healthcare System for Children\n\nFor more information
  visit https://northeastwheelsevents.com/events/16th-annual-spring-dus
 t-off-car-show-blood-drive
DTSTART:20140406T120000Z
DTEND:20140406T190000Z
CATEGORIES:car, show, blood, drive, fundraiser
LOCATION:maspeth federal Saving Bank
WEBSITE:http://www.eccatoysfortots.org
URL:http://www.eccatoysfortots.org
CONTACT:917-682-5362
ORGANIZER;CN="East Coast Car Assicoation Inc":https://northeastwheelse
 vents.com/profile/EastCoastCarAssicoationInc
ATTACH;FMTTYPE="image/jpeg":http://storage.ning.com/topology/rest/1.0/
 file/get/2284057084?profile=original
ATTENDEE;ROLE=REQ-PARTICIPANT;PARTSTAT=ACCEPTED;RSVP=TRUE;CN="East Coa
 st Car Assicoation Inc":https://northeastwheelsevents.com/profile/East
 CoastCarAssicoationInc
END:VEVENT
END:VCALENDAR
