BEGIN:VCALENDAR
PRODID:NingEventWidget-v1
VERSION:2.0
METHOD:PUBLISH
BEGIN:VEVENT
UID:5167423:Event:136495
DTSTAMP:20260424T161405Z
SUMMARY:17TH ANNUAL TRAIN, SLOT-CAR AND MODEL KIT SHOW
DESCRIPTION:Bring the entire family.. Dave Kennedy, the Carrera rep, w
 ill be on hand and race Carrera slot cars..0 gauge train display, mode
 l car contest/show paying cash prizes.. Have a fun day with over 50 ta
 bles of vendors. Held at the York Fairgrounds, Old Main Building, Rt 7
 4 south in York Pa\n\nFor more information visit https://northeastwhee
 lsevents.com/events/17th-annual-train-slot-car-and-model-kit-show
DTSTART:20161120T140000Z
DTEND:20161120T200000Z
CATEGORIES:train, slot-car, and, model, kit, "show/sale"
LOCATION:York Fairgrounds,,, Old Main Building, York, Pa
WEBSITE:
URL:
CONTACT:717-515-3494
ORGANIZER;CN="Craig Holler":https://northeastwheelsevents.com/profile/
 CraigHoller
ATTACH;FMTTYPE="image/jpeg":
ATTENDEE;ROLE=REQ-PARTICIPANT;PARTSTAT=ACCEPTED;RSVP=TRUE;CN="Craig Ho
 ller":https://northeastwheelsevents.com/profile/CraigHoller
END:VEVENT
END:VCALENDAR
