BEGIN:VCALENDAR
PRODID:NingEventWidget-v1
VERSION:2.0
METHOD:PUBLISH
BEGIN:VEVENT
UID:5167423:Event:29834
DTSTAMP:20260423T174827Z
SUMMARY:1878 Louis-Joseph Chevrolet born
DESCRIPTION:Louis-Joseph Chevrolet, born in LaChaux de Fonds, Switzerl
 and. By age 12, Louis was making money repairing bicycles and winning 
 races with physical ability and working with gear ratios. He drove his
  first De Dion tricycle in 1893 when the owner could not start it and 
 Louis offered to help. 1896 Louis got a job with De Dion, then Mors an
 d Darracq. He came to Canada in 1900 and, in 1901, New York. His 1st r
 ace was at Chicago's Harlem track May 27,1905 and bested Barney Oldfie
 ld's record. March 5th,1909 Louis drove for William Durant's Buick. Wh
 en Durant was ousted from newly formed GM for the 1st time, he formed 
 Chevrolet Motors Co on 11/3/1911. Chevrolet was given 100 shares of th
 e corp. for his name and a car design. Because of disagreements with D
 urant, Chevrolet sold his shares and left in 1915. Louis and his broth
 ers, Arthur and Gaston, founded Fontenac Motor Corp in 1916 to build p
 erformance parts for Fords. Louis Chevrolet passed away penniless June
  6, 1941 in Detroit.\n\nFor more information visit https://northeastwh
 eelsevents.com/events/1878-louis-chevrolet-born
DTSTART:20131225T050000Z
DTEND:20131226T045900Z
CATEGORIES:historic, milestone
LOCATION:National and regional
WEBSITE:
URL:
CONTACT:
ORGANIZER;CN="Pamela Hirschhorn":https://northeastwheelsevents.com/pro
 file/PamelaHirschhorn
ATTACH;FMTTYPE="image/jpeg":http://storage.ning.com/topology/rest/1.0/
 file/get/2284053912?profile=original
ATTENDEE;ROLE=REQ-PARTICIPANT;PARTSTAT=ACCEPTED;RSVP=TRUE;CN="Pamela H
 irschhorn":https://northeastwheelsevents.com/profile/PamelaHirschhorn
END:VEVENT
END:VCALENDAR
