BEGIN:VCALENDAR
PRODID:NingEventWidget-v1
VERSION:2.0
METHOD:PUBLISH
BEGIN:VEVENT
UID:5167423:Event:23217
DTSTAMP:20260422T105232Z
SUMMARY:18th Annual Cruise Night
DESCRIPTION:Classic Car Show organized by: The Street Markers!\n\n5 Di
 fferent Winners! Plaques donated by Ebersole Bros.\n\nSPECIAL GUEST: \
 "Lebanon Levi\" from the hit TV show \"Amish Mafia.\"\n\nMusic by: The
  James Supra Blues Band\n\nTattoos by: Prismatic Ink\n\nPatch Sewing b
 y: Maurer's Sew Creative\n\nFood by: Stewart's Root Beer, The Onion Sh
 ack, White's Pig Roast to Benefit MDA\n\nPin Striping By: Custom’s b
 y Jerry\n\nCigars by: International Cigar\n\nFlag & Flag Accessories b
 y: Rebman's Flag Shop\n\nSafety Equipment by: Protection Connection\n 
 Door Prizes, Discounted end-of-season Motorclothes under the tent AND 
 A LOT MORE!\n\nFor more information visit https://northeastwheelsevent
 s.com/events/18th-annual-cruise-night
DTSTART:20130629T200000Z
DTEND:20130630T000000Z
CATEGORIES:car, show, to, benefit, mda
LOCATION:White's Harley-Davidson
WEBSITE:http://www.whitesharley.com/event_list_detail.asp?ecode=602220
 &month=6&year=2013&location=0&Submit=Search
URL:http://www.whitesharley.com/event_list_detail.asp?ecode=602220&mon
 th=6&year=2013&location=0&Submit=Search
CONTACT:(717) 644-2244
ORGANIZER:J. DeAngelo Jr
ATTACH;FMTTYPE="image/jpeg":http://storage.ning.com/topology/rest/1.0/
 file/get/2284050950?profile=original
ATTENDEE;ROLE=REQ-PARTICIPANT;PARTSTAT=ACCEPTED;RSVP=TRUE;CN="White's 
 Harley-Davidson":https://northeastwheelsevents.com/profile/JoeWhite
END:VEVENT
END:VCALENDAR
