BEGIN:VCALENDAR
PRODID:NingEventWidget-v1
VERSION:2.0
METHOD:PUBLISH
BEGIN:VEVENT
UID:5167423:Event:22989
DTSTAMP:20260423T064000Z
SUMMARY:1903 Barney Oldfield becomes the 1st person to average 60mph o
 n a 1 mile track
DESCRIPTION:Barney Oldfield, born June 3, 1878 started his career raci
 ng bicycles and later, the new, exciting motor car.\nOldfield and part
 ner, Cooper bought a race car from Henry Ford and drove it to victory 
 in October 1902 against favorite Alexander Winton. The victory made Ol
 dfield and Ford name in the automotive field.\n   On this day in 190
 3, Barney Oldfield became the first person to drive a one mile track (
  Indiana State Fairgrounds, Indianapolis IL ) in under 1 minute with t
 he Ford, dubbed \" Old 999 \".\nPicture is Oldfield with Ford standing
  besides Old 999 \n\nFor more information visit https://northeastwhee
 lsevents.com/events/1903-barney-oldfield-becomes-the-1st-person-to-ave
 rage-60mph-on-a
DTSTART:20130620T040000Z
DTEND:20130621T035900Z
CATEGORIES:historic, milestone
LOCATION:National and regional
WEBSITE:
URL:
CONTACT:
ORGANIZER;CN="Pamela Hirschhorn":https://northeastwheelsevents.com/pro
 file/PamelaHirschhorn
ATTACH;FMTTYPE="image/jpeg":http://storage.ning.com/topology/rest/1.0/
 file/get/2284050857?profile=original
ATTENDEE;ROLE=REQ-PARTICIPANT;PARTSTAT=ACCEPTED;RSVP=TRUE;CN="Pamela H
 irschhorn":https://northeastwheelsevents.com/profile/PamelaHirschhorn
END:VEVENT
END:VCALENDAR
