BEGIN:VCALENDAR
PRODID:NingEventWidget-v1
VERSION:2.0
METHOD:PUBLISH
BEGIN:VEVENT
UID:5167423:Event:20651
DTSTAMP:20260424T132511Z
SUMMARY:1948 Charles Nash dies
DESCRIPTION:Charles Nash, born into poverty on January 28, 1864 moved 
 to Flint and found employment with the Flint Wagon Works, owned by Wil
 liam Durant. Became the manager of Buick and, in 1910, the financiall
 y troubled GM. Turned losses into profit but was voted out in 1915. B
 ought Jeffery Motor Company in August, 1916. Renamed it Nash Motors. R
 etired from Nash in 1936.\nPasted away on this date, 1948.\n\nFor more
  information visit https://northeastwheelsevents.com/events/1948-charl
 es-nash-dies
DTSTART:20130606T040000Z
DTEND:20130607T035900Z
CATEGORIES:historic, milestone
LOCATION:National and regional
WEBSITE:
URL:
CONTACT:
ORGANIZER;CN="Pamela Hirschhorn":https://northeastwheelsevents.com/pro
 file/PamelaHirschhorn
ATTACH;FMTTYPE="image/jpeg":http://storage.ning.com/topology/rest/1.0/
 file/get/2284051850?profile=original
ATTENDEE;ROLE=REQ-PARTICIPANT;PARTSTAT=ACCEPTED;RSVP=TRUE;CN="Pamela H
 irschhorn":https://northeastwheelsevents.com/profile/PamelaHirschhorn
END:VEVENT
END:VCALENDAR
