BEGIN:VCALENDAR
PRODID:NingEventWidget-v1
VERSION:2.0
METHOD:PUBLISH
BEGIN:VEVENT
UID:5167423:Event:137005
DTSTAMP:20260424T144323Z
SUMMARY:19th Annual Bruce Larson USA 1 Nostalgia Dragfest
DESCRIPTION:Come spend a day bench racing, remembering the heyday of t
 he fifties, sixties and seventies drag racing era. Bruce Larson's Muse
 um Collection. Car show, auction to benefit Make-A-Wish Foundation, sp
 ecial guests Don Garlits, Rob and Bob Ida Austin Healey, and USA-1 Bru
 ce Lawson. Please bring your scrapbooks, photos, slides, videos, and m
 emorabilia to share and display. Food vendor will be available.\n\nFor
  more information visit https://northeastwheelsevents.com/events/19th-
 annual-bruce-larson-usa-1-nostalgia-dragfest
DTSTART:20161112T150000Z
DTEND:20161112T210000Z
CATEGORIES:dragfest, car, show, auction
LOCATION:Bruce Lawson's Museum, Dauphin PA
WEBSITE:
URL:
CONTACT:Dave 717 866-4139, Bruce 717 574-9291
ORGANIZER:Bruce Lawson and friends
ATTACH;FMTTYPE="image/jpeg":http://storage.ning.com/topology/rest/1.0/
 file/get/2284090920?profile=original
ATTENDEE;ROLE=REQ-PARTICIPANT;PARTSTAT=ACCEPTED;RSVP=TRUE;CN="Pamela H
 irschhorn":https://northeastwheelsevents.com/profile/PamelaHirschhorn
END:VEVENT
END:VCALENDAR
