BEGIN:VCALENDAR
PRODID:NingEventWidget-v1
VERSION:2.0
METHOD:PUBLISH
BEGIN:VEVENT
UID:5167423:Event:173181
DTSTAMP:20260424T120151Z
SUMMARY:19th Annual Snowmobile Meet
DESCRIPTION:This is a beautiful venue on the outskirts of Rochester NH
 .  It has very large acreage, huge parking for visitors and our truck
 s & trailers. There is heated space 40'X 80' for clothing sales / mem
 bership table / lunch tables and lots of heat.. Everyone will be very 
 comfortable  .Please feel free to set up your own table with goodies.
   Lunch will be served by the club.\n\nFor more information visit htt
 ps://northeastwheelsevents.com/events/19th-annual-snowmobile-meet
DTSTART:20180202T230000Z
DTEND:20180205T000000Z
CATEGORIES:snowmobile, show
LOCATION:Holiday Express Inn
WEBSITE:http://www.modeltfordsnowmobile.com/index.htm
URL:http://www.modeltfordsnowmobile.com/index.htm
CONTACT:
ORGANIZER:The Model T Ford Snowmobile Club
ATTACH;FMTTYPE="image/jpeg":http://storage.ning.com/topology/rest/1.0/
 file/get/2284101089?profile=original
ATTENDEE;ROLE=REQ-PARTICIPANT;PARTSTAT=ACCEPTED;RSVP=TRUE;CN="Car Show
 s Little Helper":https://northeastwheelsevents.com/profile/CarShowsLit
 tleHelper
END:VEVENT
END:VCALENDAR
