BEGIN:VCALENDAR
PRODID:NingEventWidget-v1
VERSION:2.0
METHOD:PUBLISH
BEGIN:VEVENT
UID:5167423:Event:552
DTSTAMP:20260423T082707Z
SUMMARY:1st Annual Car and Tractor Fun Show  Bethel, Pa.
DESCRIPTION:This is a fun event Classic, Antique, or Custom any year t
 ractor first 50 registered will receive a dash plaque, certificates wi
 ll be given to the first 3 in each category Participants choice, Best 
 in Show, Campers choice this event is to raise money for our splash pa
 d. This is being held at a Christian campground, there are lots of thi
 ngs for the kids to do miniature golf, hiking, and swimming\n\nEvent F
 ees: 8.00 if pre registered by July 14th 10.00 day of event\n\nFor mor
 e information visit https://northeastwheelsevents.com/events/1st-annua
 l-car-and-tractor-fun-1
DTSTART:20100724T140000Z
DTEND:20100724T190000Z
CATEGORIES:fundraiser
LOCATION:Camp Swatara
WEBSITE:http://www.campswatara.org
URL:http://www.campswatara.org
CONTACT:717-933-5244
ORGANIZER:
ATTACH;FMTTYPE="image/jpeg":
ATTENDEE;ROLE=REQ-PARTICIPANT;PARTSTAT=ACCEPTED;RSVP=TRUE;CN="Richard 
 Scott":https://northeastwheelsevents.com/profile/RichardScott
END:VEVENT
END:VCALENDAR
