BEGIN:VCALENDAR
PRODID:NingEventWidget-v1
VERSION:2.0
METHOD:PUBLISH
BEGIN:VEVENT
UID:5167423:Event:348700
DTSTAMP:20260423T161227Z
SUMMARY:1st Annual Erial Little League First Annual Car Show
DESCRIPTION:The Erial Little League is hosting its First Annual Car Sh
 ow on Sunday, April 19, 2026, in the Erial Elementary School parking 
 lot, aimed at raising funds for the league. The event features classic
  and unique cars, with registration for participants available online.
  Contact Joe for registration details (via Facebook). Rain date Apr
 il 26. \n\nFor more information visit https://northeastwheelsevents.c
 om/events/1st-annual-erial-little-league-first-annual-car-show
DTSTART:20260419T220000Z
DTEND:20260419T230000Z
CATEGORIES:carshow, benefit
LOCATION:Erial Elementary School Parking Lot
WEBSITE:https://www.facebook.com/groups/1209245069248512/posts/3321674
 891338842/
URL:https://www.facebook.com/groups/1209245069248512/posts/33216748913
 38842/
CONTACT:856-627-5415
ORGANIZER:Erial Little League
ATTACH;FMTTYPE="image/jpeg":https://storage.ning.com/topology/rest/1.0
 /file/get/31125570095?profile=original
ATTENDEE;ROLE=REQ-PARTICIPANT;PARTSTAT=ACCEPTED;RSVP=TRUE;CN="William 
 Bruce":https://northeastwheelsevents.com/profile/WilliamBruce
END:VEVENT
END:VCALENDAR
