BEGIN:VCALENDAR
PRODID:NingEventWidget-v1
VERSION:2.0
METHOD:PUBLISH
BEGIN:VEVENT
UID:5167423:Event:157806
DTSTAMP:20260422T231832Z
SUMMARY:1st Annual Philly Auto Charity Car Show
DESCRIPTION: Sunday, July 30th, 2017 - Rain Date: Aug 6th\n9 AM to 3PM
                           (Registration until
  12)\nDOS Car Competition $20\n 4500 Block of Torresdale Avenue to be 
 Closed\n \nStock, Modified, Rat Rod, Race Cars, Customs\nImports, Spe
 cials Interest, Antiques, New Generation, Etc.\n \nFree Area Parking 
 - Free Spectator Admission\n 60 Plus Trophies - Best of Show, Club Par
 ticipation,\nPaint, Interior, Engine, Modified, New Generation\n \nMu
 sic - Food - Vendors – Games – 50/50\n \nPartial Proceeds Benefit
  St Jude Children’s Research Hospital\nHosted By\n\nFor more informa
 tion visit https://northeastwheelsevents.com/events/1st-annual-philly-
 auto-charity-car-show
DTSTART:20170730T130000Z
DTEND:20170730T190000Z
CATEGORIES:fundraiser
LOCATION:Philly Auto
WEBSITE:http://www.latincruisersofphila.com/philly-auto-st-judes-chari
 ty-event-sunday-july-30th-2017.html
URL:http://www.latincruisersofphila.com/philly-auto-st-judes-charity-e
 vent-sunday-july-30th-2017.html
CONTACT:267-259-6409
ORGANIZER;CN="Latin Cruisers Car Club":https://northeastwheelsevents.c
 om/profile/LatinCruisersCarClub
ATTACH;FMTTYPE="image/jpeg":http://storage.ning.com/topology/rest/1.0/
 file/get/2284066908?profile=original
ATTENDEE;ROLE=REQ-PARTICIPANT;PARTSTAT=ACCEPTED;RSVP=TRUE;CN="Latin Cr
 uisers Car Club":https://northeastwheelsevents.com/profile/LatinCruise
 rsCarClub
END:VEVENT
END:VCALENDAR
