BEGIN:VCALENDAR
PRODID:NingEventWidget-v1
VERSION:2.0
METHOD:PUBLISH
BEGIN:VEVENT
UID:5167423:Event:64497
DTSTAMP:20260422T091356Z
SUMMARY:1st Annual Rollin To The Playground Auto & Truck Show
DESCRIPTION:Help the children get a new playground! Come show off your
  vehicles! Open to all makes and models!Rain or ShineRegistration Fee:
  $10Show Time: 10:00am-3:00pmRegistration Time: 10:00am-12:30pmClasses
 :Top 25 VehiclesKid's ChoicePTO Choice Principal Choice Best of Show
  Car Best of Show TruckFood Music RaffleDoor PrizesFor more informa
 tion, call Heather (717-424-0115)\n\nFor more information visit https:
 //northeastwheelsevents.com/events/1st-annual-rollin-to-the-playground
 -auto-truck-show
DTSTART:20150516T140000Z
DTEND:20150516T190000Z
CATEGORIES:car, show
LOCATION:Orendorf Elementary School
WEBSITE:https://www.facebook.com/events/756775621073418/?notif_t=plan_
 edited
URL:https://www.facebook.com/events/756775621073418/?notif_t=plan_edit
 ed
CONTACT:717-424-0115
ORGANIZER;CN="Visual Reality CC":https://northeastwheelsevents.com/pro
 file/VisualReality
ATTACH;FMTTYPE="image/jpeg":
ATTENDEE;ROLE=REQ-PARTICIPANT;PARTSTAT=ACCEPTED;RSVP=TRUE;CN="Visual R
 eality CC":https://northeastwheelsevents.com/profile/VisualReality
END:VEVENT
END:VCALENDAR
