BEGIN:VCALENDAR
PRODID:NingEventWidget-v1
VERSION:2.0
METHOD:PUBLISH
BEGIN:VEVENT
UID:5167423:Event:302954
DTSTAMP:20260419T114717Z
SUMMARY:1st Annual Summer Roundup Car Show
DESCRIPTION:Charity Car Show to raise money and awareness for Multiple
  Myeloma a form of blood cancer. \n\nFor more information visit https
 ://northeastwheelsevents.com/events/1st-annual-summer-roundup-car-show
DTSTART:20220710T130000Z
DTEND:20220710T190000Z
CATEGORIES:charity, car, show
LOCATION:All American Ford
WEBSITE:
URL:
CONTACT:347 988-0184
ORGANIZER;CN="Roy Boccadifuoco":https://northeastwheelsevents.com/prof
 ile/RoyBoccadifuoco
ATTACH;FMTTYPE="image/jpeg":
ATTENDEE;ROLE=REQ-PARTICIPANT;PARTSTAT=ACCEPTED;RSVP=TRUE;CN="Roy Bocc
 adifuoco":https://northeastwheelsevents.com/profile/RoyBoccadifuoco
END:VEVENT
END:VCALENDAR
