BEGIN:VCALENDAR
PRODID:NingEventWidget-v1
VERSION:2.0
METHOD:PUBLISH
BEGIN:VEVENT
UID:5167423:Event:17862
DTSTAMP:20260421T062312Z
SUMMARY:2013 Automotive Technology Competition
DESCRIPTION:Participating schools and students: Central Westmoreland 
 CTCMatt Bell - Colin McCrearyCumberland Perry AVTSDemo Angeloff - Trav
 is KesslerErie County Technical SchoolRiley Colvin - Garrett GrossFran
 klin County CTCBrandon Clever - Josh LongJersey Shore Area High School
 Sidney Helm - Joshua JohnsonLebanon County CTCAustin Ebersole - Andrew
  NeeSusquehanna County CTCAaron Lott - Troy MabyTunkhannock High Schoo
 lCameron Bunavage - Craig VeetyWallenpaupack Area High SchoolDevin Def
 azio - Robert HillerWilliamsport Area High SchoolShon Huyck - Zach Sti
 ller \nOn February 21, 2013, the above students will compete in the P
 AA Automotive Technology Competition for scholarships and prizes. The 
 winning school will advance to the 2013 National Automotive Technology
  Competition at the New York International Auto Show. \nA team of two
  students from the ten top schools were selected for the competition t
 hrough a written qualifying exam, in which a pool of 102 students from
  18 schools participated. To prepare for the competition, students are
  currently training at new car dealerships in their areas. On competit
 ion day, the students will face a test of advanced automotive diagnost
 ic skills on 2013 vehicles with predetermined defects.  The 2013 vehi
 cles will be supplied by area franchised dealerships.  \nAbout the P
 ennsylvania Automotive Association: \nThe Pennsylvania Automotive Ass
 ociation, PAA represents the nearly 1,000 new car and truck dealers in
  the Commonwealth of Pennsylvania. It also provides its members with: 
 legislative advocacy, regulatory and compliance assistance, title serv
 ices, a charitable foundation, insurance, a dealer purchasing online s
 tore, and training.   \n\nFor more information visit https://northea
 stwheelsevents.com/events/2013-automotive-technology-competition
DTSTART:20130221T050000Z
DTEND:20130222T045900Z
CATEGORIES:competition
LOCATION:AACA Museum Hershey PA
WEBSITE:http://www.paa.org
URL:http://www.paa.org
CONTACT:717-255-8311 ext. 3327
ORGANIZER:Melanie Bible Director of Communications
ATTACH;FMTTYPE="image/jpeg":http://storage.ning.com/topology/rest/1.0/
 file/get/2284048991?profile=original
ATTENDEE;ROLE=REQ-PARTICIPANT;PARTSTAT=ACCEPTED;RSVP=TRUE;CN="Pamela H
 irschhorn":https://northeastwheelsevents.com/profile/PamelaHirschhorn
END:VEVENT
END:VCALENDAR
