BEGIN:VCALENDAR
PRODID:NingEventWidget-v1
VERSION:2.0
METHOD:PUBLISH
BEGIN:VEVENT
UID:5167423:Event:17295
DTSTAMP:20260421T172158Z
SUMMARY:2013 Northeast International Auto Show
DESCRIPTION:Show Hours: 12:00pm – 10:00pm (1/31-2/1) 10:00am – 10:
 00pm(2/3) 10:00am – 5:00pm (2/3) Please visit www.ProvidenceAutoSho
 w.com for more information. Tickets are $9 for adults, $6 for seniors
 , $5 for students with a valid I.D., $4 for children, and children und
 er 6 are free. \n*Family Day is Sunday, February 3!All children 12 & 
 under admitted FREE onFamily Day when accompanied by a paying adult.
  Receive a FREE one-year subscription to Motor Trend magazine wit
 h each online ticket order or box office purchase, sponsored by North
 east International Auto Show (a $12 value).\n\nFor more information vi
 sit https://northeastwheelsevents.com/events/2013-northeast-internatio
 nal-auto-show
DTSTART:20130131T150000Z
DTEND:20130203T220000Z
CATEGORIES:auto, show
LOCATION:Rhode Island Convention Center One Sabin Street Providence, R
 I 02903rovidence
WEBSITE:http://www.motortrendautoshows.com/providence/generalinfo.jsp
URL:http://www.motortrendautoshows.com/providence/generalinfo.jsp
CONTACT:401 458-6000
ORGANIZER:Motor Trend Auto Shows
ATTACH;FMTTYPE="image/jpeg":http://storage.ning.com/topology/rest/1.0/
 file/get/2284048508?profile=original
ATTENDEE;ROLE=REQ-PARTICIPANT;PARTSTAT=ACCEPTED;RSVP=TRUE;CN="Pamela H
 irschhorn":https://northeastwheelsevents.com/profile/PamelaHirschhorn
END:VEVENT
END:VCALENDAR
