BEGIN:VCALENDAR
PRODID:NingEventWidget-v1
VERSION:2.0
METHOD:PUBLISH
BEGIN:VEVENT
UID:5167423:Event:62330
DTSTAMP:20260422T194039Z
SUMMARY:2014 Holiday Train Exhibit
DESCRIPTION:Enjoy the sounds, lights and action of many model trains s
 tationed around the museumâ€™s galleries.Â \nFun for adults and kids o
 f all ages!\nAOW is a Toys for Tots drop site. Bring a new, unwrapped 
 toy and it will be placed on the Mack Truck for delivery to children i
 n need.\n\n2014 Holiday Train Exhibit Admission Prices (November 28 â€
 “ January 3) General â€“ $10.00 Groups of 10 or more adults $8 Senior 
 (62+) â€“ $7 Student (6-16) â€“ $6 Children (12 & under) â€“ FREE\n\nF
 OR MORE INFO PLEASE GO TO:Â http://americaonwheels.org/\n\nFor more in
 formation visit https://northeastwheelsevents.com/events/2014-holiday-
 train-exhibit-18
DTSTART:20150102T050000Z
DTEND:20150103T045900Z
CATEGORIES:holiday, exhibit, events, family, kids, fun, trains, museum
LOCATION:America On Wheels Museum
WEBSITE:http://americaonwheels.org/
URL:http://americaonwheels.org/
CONTACT:610-432-4200
ORGANIZER;CN="America On Wheels Museum":https://northeastwheelsevents.
 com/profile/americaonwheels
ATTACH;FMTTYPE="image/jpeg":http://storage.ning.com/topology/rest/1.0/
 file/get/2284064481?profile=original
ATTENDEE;ROLE=REQ-PARTICIPANT;PARTSTAT=ACCEPTED;RSVP=TRUE;CN="America 
 On Wheels Museum":https://northeastwheelsevents.com/profile/americaonw
 heels
END:VEVENT
END:VCALENDAR
