BEGIN:VCALENDAR
PRODID:NingEventWidget-v1
VERSION:2.0
METHOD:PUBLISH
BEGIN:VEVENT
UID:5167423:Event:36482
DTSTAMP:20260423T132434Z
SUMMARY:2014 Pennsylvania Auto Show
DESCRIPTION:\nThursday \n1 pm – 9 pm \n\nFriday\n10 am – 9 pm\n\
 nSaturday\n10 am – 9 pm\n\nSunday\n10 am – 5 pm\n\n\n\n\n\n\nCASH 
 ONLY\n\n\nAdults (13 & over)\n$9\n\nSenior Citizens (62 & over)\n$5\
 n\nActive Military (w/ID)\n$5\n\nStudents (w/ID)Onsite Only\n$5\n\nC
 hildren (7–12)*\n$3\n\nChildren (6 & under)\nFREE\n\nFamily Day (
 12 & under)*\nFREE\n\n\n\n*Family Day is Sunday, January 26All childre
 n 12 & under admitted FREE with paying adult.\nReceive a FREE one-y
 ear subscription to Motor Trend magazine with each online ticket ord
 er or box office purchase, sponsored by Harrisburg Automotive Trade A
 ssociation (a $12 value).\n\n\n\n\n\n\nFor more information visit http
 s://northeastwheelsevents.com/events/2014-pennsylvania-auto-show
DTSTART:20140123T180000Z
DTEND:20140126T220000Z
CATEGORIES:car, show
LOCATION:PA Farm Show Complex, Harrisburg PA
WEBSITE:http://www.motortrendautoshows.com/harrisburg
URL:http://www.motortrendautoshows.com/harrisburg
CONTACT:717.787.5373
ORGANIZER:Motor Trend Auto Shows,LLC
ATTACH;FMTTYPE="image/jpeg":
ATTENDEE;ROLE=REQ-PARTICIPANT;PARTSTAT=ACCEPTED;RSVP=TRUE;CN="Pamela H
 irschhorn":https://northeastwheelsevents.com/profile/PamelaHirschhorn
END:VEVENT
END:VCALENDAR
