BEGIN:VCALENDAR
PRODID:NingEventWidget-v1
VERSION:2.0
METHOD:PUBLISH
BEGIN:VEVENT
UID:5167423:Event:46146
DTSTAMP:20260423T180820Z
SUMMARY:2014 Spring Weatherly Hillclimb
DESCRIPTION:SCCA Level 4 Hillclimb\n1 mile course in Weatherly, PA\n\n
 For more information visit https://northeastwheelsevents.com/events/20
 14-spring-weatherly-hillclimb
DTSTART:20140614T040000Z
DTEND:20140616T035900Z
CATEGORIES:hillclimb
LOCATION:Weatherly, PA
WEBSITE:http://pahillclimb.org
URL:http://pahillclimb.org
CONTACT:
ORGANIZER;CN="Nelson Kase":https://northeastwheelsevents.com/profile/N
 elsonKase
ATTACH;FMTTYPE="image/jpeg":
ATTENDEE;ROLE=REQ-PARTICIPANT;PARTSTAT=ACCEPTED;RSVP=TRUE;CN="Nelson K
 ase":https://northeastwheelsevents.com/profile/NelsonKase
END:VEVENT
END:VCALENDAR
