BEGIN:VCALENDAR
PRODID:NingEventWidget-v1
VERSION:2.0
METHOD:PUBLISH
BEGIN:VEVENT
UID:5167423:Event:63713
DTSTAMP:20260422T200246Z
SUMMARY:2015 All Camaro Parade
DESCRIPTION:We are out to set a record for the longest line of Camaro 
 in a parade. This event will be open to all year camaros and will abou
 t 5 miles long with a car show to follow at the end point\n\nFor more 
 information visit https://northeastwheelsevents.com/events/2015-all-ca
 maro-parade
DTSTART:20150517T040000Z
DTEND:20150518T035900Z
CATEGORIES:parade
LOCATION:Starting point saratoga springs Rt 50
WEBSITE:https://www.facebook.com/AllCamaroParade2015
URL:https://www.facebook.com/AllCamaroParade2015
CONTACT:
ORGANIZER;CN="Moak DeTraglia":https://northeastwheelsevents.com/profil
 e/MoakDeTraglia
ATTACH;FMTTYPE="image/jpeg":http://storage.ning.com/topology/rest/1.0/
 file/get/2284065406?profile=original
ATTENDEE;ROLE=REQ-PARTICIPANT;PARTSTAT=ACCEPTED;RSVP=TRUE;CN="Moak DeT
 raglia":https://northeastwheelsevents.com/profile/MoakDeTraglia
END:VEVENT
END:VCALENDAR
