BEGIN:VCALENDAR
PRODID:NingEventWidget-v1
VERSION:2.0
METHOD:PUBLISH
BEGIN:VEVENT
UID:5167423:Event:72940
DTSTAMP:20260422T020401Z
SUMMARY:2015 Bricklin Grand National Meet
DESCRIPTION:Wednesday July 15th  Register at the hotel and get your m
 eet pack. The hospitality room will be open early. Hang around and tal
 k Bricklins!  Thursday July 16th This will be a busy and fun day! At 9
 :00 am sharp we will leave the hotel to go to Harley Davidsons new all
  air-conditioned factory 1425 Eden Road York PA. This is a free tour o
 f a working factory. Note: No open toe shoes allowed. This is a 32-mil
 e drive on scenic country roads along the Susquehanna River. After the
  tour, around 11:30 am, we will depart the factory and head for Indian
  Echo Caverns, 368 Middletown Road Hummelstown, PA. (indianechocaverns
 .com) Here we will have a catered Bric-nic consisting of: chicken brea
 st, hamburgers, hot dogs with pasta salad & cole slaw, dessert cake, s
 oda or bottled water. Then, on to a 45-minute tour of the caverns. The
  cost for both is $12.00 adult and $7.00 child under 12. Normally it i
 s $25/$20 but the Bricklin club will be making up the difference. The 
 Bric-nic (which by the way is all you can eat!) will be under a covere
 d pavilion. Also on the grounds is a petting zoo and Gem Mill Station 
 for the kids or the kids in us! Its a beautiful area.  Friday July 17t
 h Again at 9:00 am we leave the hotel for the Antique Automobile Club 
 of America Museum, 161 Museum Drive, Hershey, PA. (AACAMuseun.org). Th
 ey have a green 4-spd Bricklin donated by Mr. Joe Disciullo. We will b
 e parking our cars on the grass in front of the museum for pictures. A
 fterward you can tour the museum for a fee of $9.50 At 11:00 am we dep
 art and go just down the road to the free Hershey Chocolate World Fact
 ory tour at Hershey Park, and then to downtown Hershey to the Hershey 
 Museum. (hersheystory.org) Admission is $8.50. This is a self-guided t
 our so allow as much time as you like. Since we will be downtown Hersh
 ey with numerous restaurants, everyone will on their own for lunch.  S
 aturday July 18th  Car show and banquet at the hotel. We have a nice 
 elegant banquet hall, and from this banquet hall you can go to an outs
 ide pavilion if you like.\n\nFor more information visit https://northe
 astwheelsevents.com/events/2015-bricklin-grand-national-meet
DTSTART:20150715T220000Z
DTEND:20150718T210000Z
CATEGORIES:bricklin, international, meet
LOCATION:Sheraton Harrisburg Hershey
WEBSITE:http://www.bricklin.org
URL:http://www.bricklin.org
CONTACT:Joe Vasso  pan24@optonline.net or call (613) 653-8621  or Art 
 Zubrowski artzub81@gmail.com or call (860) 376-0886
ORGANIZER:Bricklin International
ATTACH;FMTTYPE="image/jpeg":http://storage.ning.com/topology/rest/1.0/
 file/get/2284071200?profile=original
ATTENDEE;ROLE=REQ-PARTICIPANT;PARTSTAT=ACCEPTED;RSVP=TRUE;CN="Alex Mar
 tin":https://northeastwheelsevents.com/profile/Alexmartin
END:VEVENT
END:VCALENDAR
