BEGIN:VCALENDAR
PRODID:NingEventWidget-v1
VERSION:2.0
METHOD:PUBLISH
BEGIN:VEVENT
UID:5167423:Event:63771
DTSTAMP:20260423T050149Z
SUMMARY:2015 Philadelphia Auto Show
DESCRIPTION:Explore the automotive industry’s latest creations at th
 e Pennsylvania Convention Center during the 2015 Philadelphia Auto Sho
 w.\n\nThe Philadelphia Auto Show features more than 700 concept, class
 ic, luxury and exotic cars on display, with every major vehicle manufa
 cturer represented.\n\nAll vehicles are arranged by category, making i
 t easy to navigate the 650,000-square-foot display floor.\nVisitors ca
 n get up-close and personal with the newest vehicle models that will s
 oon be at dealerships around the region, check out the latest green ve
 hicles or explore exotic vehicles, both old and new. There truly is so
 mething for everyone\n\nHours Monday-Friday: Noon–10 p.m. Saturdays:
  9 a.m.–10 p.m. Sunday (February 1): 9 a.m.–6 p.m. Sunday (Februar
 y 8): 9 a.m.–8 p.m.\n\nTickets Adults (age 13 and up): $13 Children 
 (age 7 -12): $6 Children (age 6 and under): Free with paid adult\nDisc
 ounts Seniors (age 62+): $6 (weekdays only – tickets must be purchas
 ed at the box office) Military (active duty with valid ID): $10 (ticke
 ts must be purchased at the box office)\n\nTickets for the Philadelphi
 a Auto Show are available online: http://www.phillyautoshow.com/get-ti
 ckets/\n\nFor more information visit https://northeastwheelsevents.com
 /events/2015-philadelphia-auto-show
DTSTART:20150131T140000Z
DTEND:20150208T230000Z
CATEGORIES:auto, show
LOCATION:The Pennsylvania Convention Center
WEBSITE:http://www.phillyautoshow.com/show-info/
URL:http://www.phillyautoshow.com/show-info/
CONTACT:
ORGANIZER;CN="Jenna Robinson":https://northeastwheelsevents.com/profil
 e/JennaRobinson
ATTACH;FMTTYPE="image/jpeg":http://storage.ning.com/topology/rest/1.0/
 file/get/2284065910?profile=original
ATTENDEE;ROLE=REQ-PARTICIPANT;PARTSTAT=ACCEPTED;RSVP=TRUE;CN="Sarah St
 oltzfus":https://northeastwheelsevents.com/profile/SarahStoltzfus
ATTENDEE;ROLE=REQ-PARTICIPANT;PARTSTAT=ACCEPTED;RSVP=TRUE;CN="Jenna Ro
 binson":https://northeastwheelsevents.com/profile/JennaRobinson
END:VEVENT
END:VCALENDAR
