BEGIN:VCALENDAR
PRODID:NingEventWidget-v1
VERSION:2.0
METHOD:PUBLISH
BEGIN:VEVENT
UID:5167423:Event:119529
DTSTAMP:20260425T093442Z
SUMMARY:2016 Summer Car Cruise In Finale Car Show
DESCRIPTION:Held in the beautiful village park in Richfield Springs NY
 . Goody bags, dash plaques, Trophy's, food, music and more. NO ENTRY F
 EE, No pop up tents,\n\nFor more information visit https://northeastwh
 eelsevents.com/events/2016-summer-car-cruise-in-finale-car-show
DTSTART:20160821T130000Z
DTEND:20160821T200000Z
CATEGORIES:car, sow
LOCATION:Village Park
WEBSITE:http://jdentertainmentdjservice.com
URL:http://jdentertainmentdjservice.com
CONTACT:315-858-2158
ORGANIZER;CN="Jack Clark":https://northeastwheelsevents.com/profile/Ja
 ckClark380
ATTACH;FMTTYPE="image/jpeg":
ATTENDEE;ROLE=REQ-PARTICIPANT;PARTSTAT=ACCEPTED;RSVP=TRUE;CN="Jack Cla
 rk":https://northeastwheelsevents.com/profile/JackClark380
END:VEVENT
END:VCALENDAR
