BEGIN:VCALENDAR
PRODID:NingEventWidget-v1
VERSION:2.0
METHOD:PUBLISH
BEGIN:VEVENT
UID:5167423:Event:140308
DTSTAMP:20260423T154750Z
SUMMARY:2017 Motor Trend International Auto Show - Baltimore
DESCRIPTION:It’s a must for anyone looking for a new ride or who wan
 ts to see the car of your dreams in real life. The show is also the pl
 ace to see Motor Trend’s 2017 Car of the Year, the brand new Chevrol
 et BOLT which the magazine says has “set a new benchmark for electri
 c vehicles.” Once again, the duPont Registry Live is bringing a coll
 ection of pricey and priceless rides from the likes of Lamborghini, Be
 ntley and McLaren. If they like what they see, visitors can even test 
 drive the latest models from Toyota, Ford, Chevy, Chrysler, Jeep, Dodg
 e, RAM and Fiat.\nFebruary 9 - 12, 2017\n\nThursday\n12 noon - 9 pm\n\
 nFriday\n10 am - 9 pm\n\nSaturday\n10 am - 9 pm\n\nSunday\n10 am - 6 p
 m\n\n\n\n\nFor more information visit https://northeastwheelsevents.co
 m/events/2017-motor-trend-international-auto-show-baltimore
DTSTART:20170209T170000Z
DTEND:20170212T230000Z
CATEGORIES:auto, show
LOCATION:Baltimore Convention Center
WEBSITE:http://autoshowbaltimore.com/info/
URL:http://autoshowbaltimore.com/info/
CONTACT:info@motortrendautoshows.com
ORGANIZER:Motor Trend Auto Shows
ATTACH;FMTTYPE="image/jpeg":http://storage.ning.com/topology/rest/1.0/
 file/get/2284091125?profile=original
ATTENDEE;ROLE=REQ-PARTICIPANT;PARTSTAT=ACCEPTED;RSVP=TRUE;CN="Pamela H
 irschhorn":https://northeastwheelsevents.com/profile/PamelaHirschhorn
END:VEVENT
END:VCALENDAR
