BEGIN:VCALENDAR
PRODID:NingEventWidget-v1
VERSION:2.0
METHOD:PUBLISH
BEGIN:VEVENT
UID:5167423:Event:221252
DTSTAMP:20260421T092856Z
SUMMARY:2019 Timonium International Motorcycle Show
DESCRIPTION:Remember to Tell a Friend if you cant make it bet you know
  two that can !!! Jam-On would like to thank you all for your support
  over the past 45 years. WE COULD OF NOT MADE IT THIS FAR WITHOUT YOU 
 !!! Jam-On Productions Presents Timonium International Motorcycle Sho
 w When: Feb 8th-10th 2019Where: Maryland state Fairgrounds 2200 York 
 Rd Timonium MdWould not be proper unless we include a SWAPMEET After 
 all Jam-On Productions is the producer of the Worlds Largest Motorcycl
 e Swapmeet (SHAMELESS PLUG celebrating its 41st anniversary during Day
 tona Beach bikeweek)Several Antique Motorcycle Clubs that have missed 
 previous years have agreed to return to the 2019 show adding roughly 1
 00 antique bikes All our events are Family Friendly , with clowns fac
 e painters & kid amusements to keep your children entertained for hour
 s$300 cash door prize will be given on Sat at 7:00 pm & Sun at 5:00 
 pm WE DRAW TIL SOMEONE WALKS WITH THE MONEY We will be adding a Soun
 d Off Competition offering cash prizes***this event will be held to wh
 ere if you don't want to hear it you don't have to hear it, we want ev
 eryone's experience to be enjoyable***Abate of Maryland is welcome to 
 a free booth as Jam-On Production's CEO is a Founding Member of Abate 
 of Maryland as well as a lifetime member of AMA and of the AMA Hall of
  Fame Over 40 years in strictly motorcycle events by a true motorcycl
 ist and being the FIRST promoter to ever present New, Custom, & Vintag
 e Motorcycles of Every Brand in the same building with carpet and drap
 es this years show could not be in better hands. WE WELCOME ANY & ALL
  MOTORCYCLISTS ...for the best interest in the continuance of this sho
 w we respectfully request if you have a bad attitude and can not get a
 long with others please don't ruin the fun for everyone and just stay 
 home.Admission (cash only) Adult $1510-15 $5under ten freeActive mili
 tary & 1st Responders FREE FRIDAY from4-5pm w/I.DActive military & 1st
  Responders $10 w/I.D Find $10 admission coupons available at local m
 otorcycle shops\n\nFor more information visit https://northeastwheelse
 vents.com/events/2019-timonium-international-motorcycle-show
DTSTART:20190208T210000Z
DTEND:20190210T230000Z
CATEGORIES:motorcycle, show, "&amp", swap, meet
LOCATION:Maryland State Fairgrounds
WEBSITE:https://internationalmotorcycleshow.com/
URL:https://internationalmotorcycleshow.com/
CONTACT:386-206-5276
ORGANIZER:Jam-On Productions Paul Jackson
ATTACH;FMTTYPE="image/jpeg":http://storage.ning.com/topology/rest/1.0/
 file/get/2284112644?profile=original
ATTENDEE;ROLE=REQ-PARTICIPANT;PARTSTAT=ACCEPTED;RSVP=TRUE;CN=TJ:https:
 //northeastwheelsevents.com/profile/TJ
END:VEVENT
END:VCALENDAR
