BEGIN:VCALENDAR
PRODID:NingEventWidget-v1
VERSION:2.0
METHOD:PUBLISH
BEGIN:VEVENT
UID:5167423:Event:232788
DTSTAMP:20260423T055905Z
SUMMARY:2019 TOBAY Beach Spring Car, Truck, and SUV Show, Massapequa, 
 LI
DESCRIPTION:There will be something for everyone at this show. Awards,
  Vendors, Live Entertainment, Food and Refreshments, etc.\nPlease brin
 g two cans of food for the Island Harvest Food Bank.\nFREE TO SPECTATO
 RS\nCAR REGISTRATION: Online Advanced Registration $15; Day of Show: $
 25 a the gate.\n\nFor more information visit https://northeastwheelsev
 ents.com/events/2019-tobay-beach-spring-car-truck-and-suv-show-massape
 qua-li
DTSTART:20190505T150000Z
DTEND:20190505T200000Z
CATEGORIES:car, show
LOCATION:Tobay Beach
WEBSITE:http://www.carshowli.com
URL:http://www.carshowli.com
CONTACT:516-797-4121
ORGANIZER:Car Show Long Island
ATTACH;FMTTYPE="image/jpeg":https://storage.ning.com/topology/rest/1.0
 /file/get/945233566?profile=original
ATTENDEE;ROLE=REQ-PARTICIPANT;PARTSTAT=ACCEPTED;RSVP=TRUE;CN="Car Show
 s Little Helper":https://northeastwheelsevents.com/profile/CarShowsLit
 tleHelper
END:VEVENT
END:VCALENDAR
