BEGIN:VCALENDAR
PRODID:NingEventWidget-v1
VERSION:2.0
METHOD:PUBLISH
BEGIN:VEVENT
UID:5167423:Event:334045
DTSTAMP:20260423T123107Z
SUMMARY:2024 Cars for Kids Automobile Show
DESCRIPTION:\r\nLitchfield, CT Cars for Kids Automobile Show October 1
 3, 2024 - Rain Date: October 20, 2024. Sponsored by the Valley Collect
 or Car Club and the Litchfield Hills Historical Automobile Club, the 1
 1th Annual Cars for Kids Automobile Show will be held at CJR in Litchf
 ield, 550 Goshen Road. Gates open for show cars at 8 AM. Entries are $
 10 per car. Dashboard plaques will be given to the first 100 paid regi
 strants and exhibitor gift bags to the first 200 paid registrants. Jud
 ging will be from 10:30 AM 1:30 PM and more than 20 trophies will be a
 warded at 2:30 PM. Spectator parking opens at 10 AM. Admission is $5 p
 er car for spectators. Breakfast sandwiches, hamburgers, hot dogs, bar
 becued chicken sandwiches and hot and cold beverages will be sold. A s
 crumptious, signature bake sale will be conducted by the Litchfield Ai
 d of CJR.Children and families will enjoy farm tours and hay rides. Vi
 sitors may purchase eggs, chrysanthemums, and produce, including, pump
 kins, gourds and squash grown by students, at CJRs roadside Farm Marke
 t. Products from other vocational classes, including culinary arts, wo
 odshop, fine and creative arts, and power technology will also be feat
 ured. Proceeds from this event will support CJRs care, treatment and e
 ducation services for children, youth and families in locations throug
 hout the state.For further information about the Cars for Kids Automob
 ile Show, please call 860-567-9423, or visit CJRs website: www.cjrimpa
 ct.org. The rain date for this event is October 20, 2024.\r\n\r\nCost:
  $10 for exhibitors, $5 per car for spectators.\r\nTo Register: Clic
 k here for more information or call Francine Spencer at 860-567-9423
  or e-mail us.\r\nhttps://www.facebook.com/carsforkidsautomobileshow
 /\r\n\n\nFor more information visit https://northeastwheelsevents.com/
 events/2024-cars-for-kids-automobile-show
DTSTART:20241013T120000Z
DTEND:20241013T190000Z
CATEGORIES:carshow, benefit
LOCATION:550 Goshen Road
WEBSITE:https://www.hemmings.com/events/detail?listing_id=63772
URL:https://www.hemmings.com/events/detail?listing_id=63772
CONTACT:860-567-9423
ORGANIZER:Sponsored by the Valley Collector Car Club and the Litchfiel
 d Hills Historical Automobile Club
ATTACH;FMTTYPE="image/jpeg":https://storage.ning.com/topology/rest/1.0
 /file/get/12931892057?profile=original
ATTENDEE;ROLE=REQ-PARTICIPANT;PARTSTAT=ACCEPTED;RSVP=TRUE;CN="William 
 Bruce":https://northeastwheelsevents.com/profile/WilliamBruce
END:VEVENT
END:VCALENDAR
