BEGIN:VCALENDAR
PRODID:NingEventWidget-v1
VERSION:2.0
METHOD:PUBLISH
BEGIN:VEVENT
UID:5167423:Event:325135
DTSTAMP:20260425T152047Z
SUMMARY:2024 Cincinnati Concours dâ€™Elegance
DESCRIPTION:The 46th annual Cincinnati Concours dâ€™Elegance is a nati
 onally recognized automotive event celebrating excellence in both auto
 mobiles and motorcycles. Vehicles are displayed in the formal gardens 
 of historic Ault Park, with a classic pavilion overlooking the show fi
 eld, hosting an automotive art show, brunch, and beer garden.\n\nThis 
 year's featured theme is \"La Dolce Vita â€“ Celebrating Italian Style
 ,\" emphasizing Italian automotive innovation and design. Special disp
 lays include the 60th Anniversary of the Ford Mustang and a tribute to
  Auburn, Cord, and Duesenberg. Proceeds benefit the Juvenile Arthritis
  programs of the Arthritis Foundation. The weekend includes various so
 cial functions leading up to Sunday's Concours, providing opportunitie
 s for automotive enthusiasts to connect and share their passion.\nÂ \n
 Car show pre-sale tickets are $40 if purchased by May 26, 2024.\nCar s
 how price at gateâ€“ $45 adults, $15 student with ID, kids 12 & under 
 free.\nÂ \n2024 Weekend of Events:\nÂ Â Â Â Â Â \nSaturday, June 8\n12
 :00pm: Countryside Tour â€“ departing from Mariemont Square\nÂ Â Â Â Â
  Â  Drivers meeting at 12:45pm for 1pm departure\n5:00pm â€“ 9:00pm: H
 angar Party â€“ Lunken Airport, 4556 Airport Road, Cincinnati OH Â Â Â
  Â 45226, Executive Jet Management hangar\nÂ \nSunday, June 9\n10:00am
  to 4pm Concours dâ€™Elegance\n10:00am â€“ 3:00pm: The Craft Beer Gard
 en (separate admission required)\n10:30am â€“ 2:00pm: Brunch at the Pa
 vilion (advance ticket required)\n10:00am â€“ 4:00pm: Will Sherman Aut
 omotive Art Show (Center Show Field)\n\nFor more information visit htt
 ps://northeastwheelsevents.com/events/2024-cincinnati-concours-d-elega
 nce
DTSTART:20240609T140000Z
DTEND:20240609T200000Z
CATEGORIES:carshow
LOCATION:Ault Park
WEBSITE:http://ohioconcours.com
URL:http://ohioconcours.com
CONTACT:513-321-1951
ORGANIZER:Cincinnati Concours Foundation
ATTACH;FMTTYPE="image/jpeg":https://storage.ning.com/topology/rest/1.0
 /file/get/12385315877?profile=original
ATTENDEE;ROLE=REQ-PARTICIPANT;PARTSTAT=ACCEPTED;RSVP=TRUE;CN="Deana Ro
 ss":https://northeastwheelsevents.com/profile/DeanaRoss31
END:VEVENT
END:VCALENDAR
