BEGIN:VCALENDAR
PRODID:NingEventWidget-v1
VERSION:2.0
METHOD:PUBLISH
BEGIN:VEVENT
UID:5167423:Event:330653
DTSTAMP:20260423T225642Z
SUMMARY:2024 Fall Motorcycle Swap Meet
DESCRIPTION:The Fall Motorcycle Swap Meet in 2024 returns to Stafford 
 Motor Speedway in Stafford Springs, Connecticut. October, 27 2024. Ope
 n 7:00am- 4:00pm. Bike Show, Vendors, Food, Beer and Music.\r\nEvent P
 ricing:\r\nAdmission $15\r\nVendor Space $35\r\nBike Show $15\r\nBike 
 Corral $15\r\nFor ticket information, whether buying or upgrading tick
 ets, asking general or event related questions, or sharing feedbacks o
 r concerns, we are here to help, call 860-684-2783, or write us at P.O
 . Box 105, Stafford Springs, Connecticut 06076. Vendor information and
  parking call 860-978-2861.\r\nFor our other events information and 20
 24 Modified Season schedule, check https://staffordmotorspeedway.com 
  Ride on! \n\nFor more information visit https://northeastwheelsevent
 s.com/events/2024-fall-motorcycle-swap-meet
DTSTART:20241027T110000Z
DTEND:20241027T200000Z
CATEGORIES:motorcycle, show, parts, sales
LOCATION:Stafford Motor Speedway
WEBSITE:https://staffordmotorspeedway.com/events/2024-fall-motorcycle-
 swap-meet/
URL:https://staffordmotorspeedway.com/events/2024-fall-motorcycle-swap
 -meet/
CONTACT:860-684-2783
ORGANIZER:Stafford Motor Speedway
ATTACH;FMTTYPE="image/jpeg":https://storage.ning.com/topology/rest/1.0
 /file/get/12744306696?profile=original
ATTENDEE;ROLE=REQ-PARTICIPANT;PARTSTAT=ACCEPTED;RSVP=TRUE;CN="William 
 Bruce":https://northeastwheelsevents.com/profile/WilliamBruce
END:VEVENT
END:VCALENDAR
