BEGIN:VCALENDAR
PRODID:NingEventWidget-v1
VERSION:2.0
METHOD:PUBLISH
BEGIN:VEVENT
UID:5167423:Event:333211
DTSTAMP:20260422T175705Z
SUMMARY:2024 Food and Fund Ride to Support Feed Our Vets
DESCRIPTION:Welcome to the 2024 Food and Fund Ride to Support Feed Our
  Vets. \r\n60 For 60 The Mohawk Run will be partnering with the Cicer
 o American Legion Riders for the 2024 Food and Fund Ride, Sunday, Sept
 ember 29, 2024\r\nThis ride will benefit Feed Our Vets\r\nBreakfast\r\
 nEpic ride\r\nMusic\r\nRaffles\r\nLunch and more!\r\nAll are welcome! 
 Check out this page for a long list of Motorcycle Cruises in New York.
   \r\nhttps://www.cyclefish.com/motorcycle_events/NEW+YORK\n\nFor mo
 re information visit https://northeastwheelsevents.com/events/2024-foo
 d-and-fund-ride-to-support-feed-our-vets
DTSTART:20240929T120000Z
DTEND:20240929T200000Z
CATEGORIES:motorcycleride, motorcycleshow, benefit
LOCATION:Cicero American Legion
WEBSITE:https://www.cyclefish.com/motorcycle_event/82520/2024-food-and
 -fund-ride-for-feed-our-vets
URL:https://www.cyclefish.com/motorcycle_event/82520/2024-food-and-fun
 d-ride-for-feed-our-vets
CONTACT:315-699-0786
ORGANIZER:Cicero American Legion 787
ATTACH;FMTTYPE="image/jpeg":https://storage.ning.com/topology/rest/1.0
 /file/get/12874715482?profile=original
ATTENDEE;ROLE=REQ-PARTICIPANT;PARTSTAT=ACCEPTED;RSVP=TRUE;CN="William 
 Bruce":https://northeastwheelsevents.com/profile/WilliamBruce
END:VEVENT
END:VCALENDAR
