BEGIN:VCALENDAR
PRODID:NingEventWidget-v1
VERSION:2.0
METHOD:PUBLISH
BEGIN:VEVENT
UID:5167423:Event:333230
DTSTAMP:20260422T175448Z
SUMMARY:2024 Street Car Show N' Tell!
DESCRIPTION:You guys asked for another car show in the fall and you go
 t it.Everyone and every vehicle is welcome to join us for my 2nd fall 
 event car show in a great area with even better food!We have all the r
 oom in the world for however many vehicles join us and with it being i
 n Fall we should have perfect weather. If this one has a pretty good t
 urn out, I might have another fall show for next year!All I ask is don
 't get rowdy on the property, no obsessive revving. When you go to lea
 ve you can get as rowdy as you want! You guys definitely delivered the
  first year.\n\nFor more information visit https://northeastwheelseven
 ts.com/events/2024-street-car-show-n-tell
DTSTART:20240929T160000Z
DTEND:20240929T190000Z
CATEGORIES:cruisein
LOCATION:Hog's Hollow Saloon
WEBSITE:https://allevents.in/mifflinville/2024-street-car-show-n-tell/
 200026787411815
URL:https://allevents.in/mifflinville/2024-street-car-show-n-tell/2000
 26787411815
CONTACT:570-520-4059
ORGANIZER:Hog's Hollow Saloon
ATTACH;FMTTYPE="image/jpeg":https://storage.ning.com/topology/rest/1.0
 /file/get/12880929466?profile=original
ATTENDEE;ROLE=REQ-PARTICIPANT;PARTSTAT=ACCEPTED;RSVP=TRUE;CN="Kevin Da
 venport":https://northeastwheelsevents.com/profile/KevinDavenport
ATTENDEE;ROLE=REQ-PARTICIPANT;PARTSTAT=ACCEPTED;RSVP=TRUE;CN="William 
 Bruce":https://northeastwheelsevents.com/profile/WilliamBruce
END:VEVENT
END:VCALENDAR
