BEGIN:VCALENDAR
PRODID:NingEventWidget-v1
VERSION:2.0
METHOD:PUBLISH
BEGIN:VEVENT
UID:5167423:Event:334075
DTSTAMP:20260422T175852Z
SUMMARY:2024 Town of Hempstead Car Show - The Fall Finale
DESCRIPTION:2024 Town of Hempstead Car Show - The Fall Finale\r\nHemps
 tead Town Supervisor Don Clavin and the Town Board invite you to the 2
 024 Town of Hempstead Car Show, The Fall Finale, at Town Park, Point L
 ookout on Sunday, September 29th. ðŸš—Â Â at 10:00 am to 04:00 pm. Rai
 n Date: Sunday, October 6 2024.Â   ATTEND THE EVENT The Car Show is FR
 EE to attend! Attendees will be able to view a vast collection of vehi
 cles - all while enjoying live music, children's play zone and activit
 ies, vendors, and much more.  ENTER THE COMPETITION All makes and mode
 ls are welcome. Sign up in advance of the event and get our pre-regist
 ration price of $25, or sign up the day of and pay $30 at the gate. Re
 ady to enter the competition? To register your vehicle, visit:Â https:
 //toh311.net/car-show. For more information, click here:Â https://town
 ofhempsteadcarshows.com.\r\n\r\n\r\nAbout The Host: If you are looking
  for more information about The Town of Hempstead, please visit https:
 //hempsteadny.gov/\r\nWebsite Link:Â https://hempsteadny.gov/\r\n\r\nÂ
  \r\n\r\n\n\nFor more information visit https://northeastwheelsevents.
 com/events/2024-town-of-hempstead-car-show-the-fall-finale
DTSTART:20240929T140000Z
DTEND:20240929T200000Z
CATEGORIES:carshow
LOCATION:Town Park Point Lookout
WEBSITE:https://allevents.in/point%20lookout/2024-town-of-hempstead-ca
 r-show-the-fall-finale/200026791997937
URL:https://allevents.in/point%20lookout/2024-town-of-hempstead-car-sh
 ow-the-fall-finale/200026791997937
CONTACT:516-670-1050
ORGANIZER:Town of Hempstead
ATTACH;FMTTYPE="image/jpeg":https://storage.ning.com/topology/rest/1.0
 /file/get/12937913667?profile=original
ATTENDEE;ROLE=REQ-PARTICIPANT;PARTSTAT=ACCEPTED;RSVP=TRUE;CN="William 
 Bruce":https://northeastwheelsevents.com/profile/WilliamBruce
END:VEVENT
END:VCALENDAR
