BEGIN:VCALENDAR
PRODID:NingEventWidget-v1
VERSION:2.0
METHOD:PUBLISH
BEGIN:VEVENT
UID:5167423:Event:335352
DTSTAMP:20260423T174703Z
SUMMARY:2024 West Seneca Spooktacular
DESCRIPTION:Hey kiddos! Get ready for the West Seneca Spooktacular, a 
 super fun Halloween party thrown every year by Horizon Martial Arts â€
 “ a really cool martial arts school right here in West Seneca, New Yor
 k. Itâ€™s right around Halloween time, so you know itâ€™s going to be 
 a blast for the whole family!  At the Spooktacular, thereâ€™s a ton of
  fun stuff to do! You can go trick-or-treating, check out awesome cars
  at the car show, play games, and even show off your costume in a cost
 ume contest. Plus, there will be some really neat martial arts shows a
 nd other cool performances all day long.  Everybodyâ€™s welcome, and g
 uess what? Itâ€™s totally free to come! Itâ€™s a great chance for all 
 of us in the community to get together, have a bunch of fun, and celeb
 rate Halloween in style.  Hereâ€™s where itâ€™s happening: Horizon Mar
 tial Arts at Wimbledon Plaza, 280 Center Rd, West Seneca, NY 14224.  A
 nd guess what? The party is brought to you by Horizon Martial Arts and
  Wimbledon Plaza. Canâ€™t wait to see you there!\n\nFor more informati
 on visit https://northeastwheelsevents.com/events/2024-west-seneca-spo
 oktacular
DTSTART:20241026T180000Z
DTEND:20241026T210000Z
CATEGORIES:carshow
LOCATION:Horizon Martial Arts at Wimbledon Plaza
WEBSITE:https://allevents.in/west%20seneca/2024-west-seneca-spooktacul
 ar/200025732930722
URL:https://allevents.in/west%20seneca/2024-west-seneca-spooktacular/2
 00025732930722
CONTACT:716-675-0899
ORGANIZER:Horizon Martial Arts at Wimbledon Plaza
ATTACH;FMTTYPE="image/jpeg":https://storage.ning.com/topology/rest/1.0
 /file/get/13028142874?profile=original
ATTENDEE;ROLE=REQ-PARTICIPANT;PARTSTAT=ACCEPTED;RSVP=TRUE;CN="William 
 Bruce":https://northeastwheelsevents.com/profile/WilliamBruce
END:VEVENT
END:VCALENDAR
