BEGIN:VCALENDAR
PRODID:NingEventWidget-v1
VERSION:2.0
METHOD:PUBLISH
BEGIN:VEVENT
UID:5167423:Event:344826
DTSTAMP:20260423T133436Z
SUMMARY:2025 Eastern Fall Meet – Hershey, PA
DESCRIPTION:Hosted by the Hershey Region AACA October 7-10, 2025 (Tues
 day to Friday) Hershey, Pennsylvania. Show on Friday.\n\nFor more info
 rmation visit https://northeastwheelsevents.com/events/2025-eastern-fa
 ll-meet-hershey-pa
DTSTART:20251007T110000Z
DTEND:20251010T220000Z
CATEGORIES:swap, meet, and, show
LOCATION:Giant Center
WEBSITE:http://chrome-extension://efaidnbmnnnibpcajpcglclefindmkaj/htt
 ps://aaca.org/wp-content/uploads/2025/06/2025_Hershey_Fall_Meet.pdf
URL:http://chrome-extension://efaidnbmnnnibpcajpcglclefindmkaj/https:/
 /aaca.org/wp-content/uploads/2025/06/2025_Hershey_Fall_Meet.pdf
CONTACT:(717) 566-7720 or (717) 534-1910/ email: info@aaca.org
ORGANIZER:AACA Hershey Region
ATTACH;FMTTYPE="image/jpeg":https://storage.ning.com/topology/rest/1.0
 /file/get/13723867876?profile=original
ATTENDEE;ROLE=REQ-PARTICIPANT;PARTSTAT=ACCEPTED;RSVP=TRUE;CN="Pamela H
 irschhorn":https://northeastwheelsevents.com/profile/PamelaHirschhorn
ATTENDEE;ROLE=REQ-PARTICIPANT;PARTSTAT=TENTATIVE;RSVP=TRUE;CN="William
  Bruce":https://northeastwheelsevents.com/profile/WilliamBruce
END:VEVENT
END:VCALENDAR
