BEGIN:VCALENDAR
PRODID:NingEventWidget-v1
VERSION:2.0
METHOD:PUBLISH
BEGIN:VEVENT
UID:5167423:Event:335999
DTSTAMP:20260419T194301Z
SUMMARY:2025 SYRACUSE AUTO EXPO SHOW
DESCRIPTION:The Syracuse Auto Expo returns to the Oncenter February 13
 th-16th 2025. The 116th Auto Expo sponsored by SADA features hundreds 
 of vehicles spread out through two buildings and three BIG floors tota
 ling 135,000 square feet, and you can experience it all in the comfort
  of the climate-controlled Oncenter. See the latest in automotive tech
 nology, efficiency, safety, comfort, and style for work, play or leisu
 re. Enjoy the latest cars, trucks, and luxury vehicles in the two mass
 ive buildings of the Oncenter. The Charity Preview will take place on 
 Wednesday, February 12th, 2025.\r\n\r\n\r\n\r\n\r\nhttps://autoexposyr
 acuse.com/events-atttractions/ \r\n\r\n\r\n\r\nThe Syracuse Auto Expo
  will be open Thursday and Friday from 4pm to 9pm, 12 noon to 9pm on S
 aturday and 12 noon to 5pm on Sunday.  Tickets are $9 for adults, $7 
 for seniors, children under 12 are $3 and under 5 are free.  Veterans
 , first responders, and military personnel are free on Thursday night 
 with ID. For more information like us on Facebook at facebook.com/syr
 acuseautoexpo.\r\n\r\n\r\n\r\n\r\n\r\n\r\n\r\n\n\nFor more information
  visit https://northeastwheelsevents.com/events/2025-syracuse-auto-exp
 o-show
DTSTART:20250213T170000Z
DTEND:20250217T020000Z
CATEGORIES:carshow
LOCATION:The Oncenter
WEBSITE:https://autoexposyracuse.com/
URL:https://autoexposyracuse.com/
CONTACT:315-474-1041 or 315-435-5100
ORGANIZER:Syracuse Automobile Dealers Association, Inc.
ATTACH;FMTTYPE="image/jpeg":https://storage.ning.com/topology/rest/1.0
 /file/get/13157893084?profile=original
ATTENDEE;ROLE=REQ-PARTICIPANT;PARTSTAT=ACCEPTED;RSVP=TRUE;CN="William 
 Bruce":https://northeastwheelsevents.com/profile/WilliamBruce
END:VEVENT
END:VCALENDAR
