BEGIN:VCALENDAR
PRODID:NingEventWidget-v1
VERSION:2.0
METHOD:PUBLISH
BEGIN:VEVENT
UID:5167423:Event:348191
DTSTAMP:20260421T135051Z
SUMMARY:2026 New Jersey Jeep Invasion
DESCRIPTION:2026 NJ Jeep Invasion – Where Adventure Meets the Beach!
 \nGet ready for the ultimate Jeep experience at the 2026 NJ Jeep Invas
 ion in Wildwood, New Jersey! Picture this: three adrenaline-pumping da
 ys on the beach, surrounded by nothing but Jeeps, the roar of the ocea
 n, and the iconic Wildwood boardwalk just steps away. Yes, this event 
 is held entirely on the sand, making it a truly one-of-a-kind adventur
 e you won't find anywhere else.\nJoin thousands of Jeep enthusiasts fo
 r a weekend packed with thrilling activities, including our exclusive 
 beach obstacle course powered by Rausch Creek Off-Road Park, where you
  can test your skills and push your Jeep to the limit. Explore and sho
 p with the industry's top vendors, offering the latest in Jeep gear, a
 ccessories, and more. Plus, don’t miss our massive raffle – packed
  with prizes that any Jeep lover would die for\n\nFor more information
  visit https://northeastwheelsevents.com/events/2026-new-jersey-jeep-i
 nvasion
DTSTART:20260710T130000Z
DTEND:20260712T170000Z
CATEGORIES:jeep, show
LOCATION:Wildwoods Convention Center
WEBSITE:
URL:
CONTACT:blinkerfluidproductions@gmail.com
ORGANIZER:Blinker Fluid Productions
ATTACH;FMTTYPE="image/jpeg":https://storage.ning.com/topology/rest/1.0
 /file/get/31091491283?profile=original
ATTENDEE;ROLE=REQ-PARTICIPANT;PARTSTAT=ACCEPTED;RSVP=TRUE;CN="Car Show
 s Little Helper":https://northeastwheelsevents.com/profile/CarShowsLit
 tleHelper
END:VEVENT
END:VCALENDAR
