BEGIN:VCALENDAR
PRODID:NingEventWidget-v1
VERSION:2.0
METHOD:PUBLISH
BEGIN:VEVENT
UID:5167423:Event:65405
DTSTAMP:20260421T073713Z
SUMMARY:20th Annual Museum CARnival Car Show
DESCRIPTION:Saturday, June 20, 2015 9 am to 3 pm (Vehicle Registration
  8 am to 12 noon)\nJoin us for a fun filled day including a Car Show o
 pen to all makes, models and years of vehicles; 50/50 Drawing, Raffle 
 Prizes, Live Entertainment, Valve Cover Racing & More!!\nOur featured 
 exhibit this year will be A Family Affair: Station Wagons. A great cha
 nce to reminisce about the good old days.\nWe will also be having Valv
 e Cover Racing:\nPractice all day until 1 pm – then race against oth
 er guests – FREE this year!\nWhat’s a valve cover race? Think Pine
  Wood derby for automotive enthusiasts. Take your favorite valve cover
 , add wheels, and go racing. Is a Buick staight 8 valve cover faster t
 han a Chevy, Studebaker, Ford, Chrysler or flat head side cover? Bring
  yours to the Car Show and find out. If you do not have a valve cover 
 to race, we have valve covers available to borrow!\nCar Show Admission
  Free for all guests! Show Car Fees are as follows: $10 Pre-registrati
 on, $15 Day of registration, and $25 for Flea Market spaces \n\nFor m
 ore information visit https://northeastwheelsevents.com/events/20th-an
 nual-museum-carnival-car-show
DTSTART:20150620T130000Z
DTEND:20150620T190000Z
CATEGORIES:community
LOCATION:AACA Museum
WEBSITE:http://www.aacamuseum.org/20th-annual-museum-carnival-car-show
 /
URL:http://www.aacamuseum.org/20th-annual-museum-carnival-car-show/
CONTACT:717-566-7100
ORGANIZER;CN="AACA Museum":https://northeastwheelsevents.com/profile/A
 ACAMuseum553
ATTACH;FMTTYPE="image/jpeg":http://storage.ning.com/topology/rest/1.0/
 file/get/2284070196?profile=original
ATTENDEE;ROLE=REQ-PARTICIPANT;PARTSTAT=ACCEPTED;RSVP=TRUE;CN="AACA Mus
 eum":https://northeastwheelsevents.com/profile/AACAMuseum553
END:VEVENT
END:VCALENDAR
