BEGIN:VCALENDAR
PRODID:NingEventWidget-v1
VERSION:2.0
METHOD:PUBLISH
BEGIN:VEVENT
UID:5167423:Event:148030
DTSTAMP:20260423T054120Z
SUMMARY:21st Annual A Day In The Park
DESCRIPTION:21st Annual A Day In The Park\nDate: Saturday, August 12th
 \nLocation: Brookside Park\nAddress: 4045 Fox Run Road, Dover, PA 1731
 5\nTime: 9am-4pm\nPre Registration: $10\nDay Of Show: $15\nRegistratio
 n Time: 9am-12pm\nDash Plaques to First 100 Vehicles\nNo Burnouts, Lou
 d Music, Drugs or Alcohol\n\nFor more information visit https://northe
 astwheelsevents.com/events/21st-annual-a-day-in-the-park
DTSTART:20170812T130000Z
DTEND:20170812T160000Z
CATEGORIES:car, show
LOCATION:Brookside Park
WEBSITE:https://www.facebook.com/events/372935643076419/
URL:https://www.facebook.com/events/372935643076419/
CONTACT:
ORGANIZER;CN="Visual Reality CC":https://northeastwheelsevents.com/pro
 file/VisualReality
ATTACH;FMTTYPE="image/jpeg":http://storage.ning.com/topology/rest/1.0/
 file/get/2284099645?profile=original
ATTENDEE;ROLE=REQ-PARTICIPANT;PARTSTAT=ACCEPTED;RSVP=TRUE;CN="Visual R
 eality CC":https://northeastwheelsevents.com/profile/VisualReality
END:VEVENT
END:VCALENDAR
