BEGIN:VCALENDAR
PRODID:NingEventWidget-v1
VERSION:2.0
METHOD:PUBLISH
BEGIN:VEVENT
UID:5167423:Event:312020
DTSTAMP:20260421T093037Z
SUMMARY:22nd SPRINGFEST - Allentown Area Corvette Club
DESCRIPTION:Our 22nd SPRINGFEST is a judged event featuring over 50 aw
 ards! Partial proceeds from this all-Corvette show go to Angel 34, St.
  Luke’s Cancer Compassion Fund, and Good Shepherd Pediatrics.\nClass
 es include street stock, modified and custom, as well as best-of-show 
 and sponsor’s awards. Our live DJ, 50/50 drawing, and raffles will a
 dd lots of energy to the show and our food vendors will have something
  for everyone. We are back at the Penn State Campus (Saucon Valley) wh
 ich is a terrific location for showing cars …lots of pavement and pl
 enty of room! The location is right across from the Promenade Shops at
  Saucon Valley where you will find fine dining and shopping. All regis
 tration is by mail. Please visit our website (www.allentowncorvetteclu
 b.org) for a full view of the flyer for the event and more information
 . Hope to see you there!\n\nFor more information visit https://northea
 stwheelsevents.com/events/22nd-springfest-allentown-area-corvette-club
DTSTART:20230603T123000Z
DTEND:20230603T190000Z
CATEGORIES:car, show
LOCATION:Penn State Lehigh Valley Campus
WEBSITE:http://www.allentowncorvetteclub.org
URL:http://www.allentowncorvetteclub.org
CONTACT:610 291-7041
ORGANIZER:Jerry Reitano
ATTACH;FMTTYPE="image/jpeg":https://storage.ning.com/topology/rest/1.0
 /file/get/10993390866?profile=original
ATTENDEE;ROLE=REQ-PARTICIPANT;PARTSTAT=ACCEPTED;RSVP=TRUE;CN="RT Paul"
 :https://northeastwheelsevents.com/profile/RTPaul918
END:VEVENT
END:VCALENDAR
