BEGIN:VCALENDAR
PRODID:NingEventWidget-v1
VERSION:2.0
METHOD:PUBLISH
BEGIN:VEVENT
UID:5167423:Event:284789
DTSTAMP:20260419T233804Z
SUMMARY:23rd Annual Metro Petro Collectors Show
DESCRIPTION:Automobilia, Petroliana, Garage Art, Car Culture memorabil
 ia, license plates, gas pumps, advertising signs, old toys, country st
 ore antiques, motorcycle/racing/hot rod collectibles, rec room decor, 
 etc.\nAll welcome, FREE parking, FREE admission.\nIndoor/outdoor vendo
 rs. Rain or shine.\nElks lodge open for restrooms and kitchen.\nEasy a
 ccess from I-287 Exit 57.\n\nFor more information visit https://northe
 astwheelsevents.com/events/23rd-annual-metro-petro-collectors-show
DTSTART:20210321T110000Z
DTEND:20210321T170000Z
CATEGORIES:swap, meet
LOCATION:Pompton Lakes Elks Lodge #1895
WEBSITE:http://www.metropetro.weebly.com
URL:http://www.metropetro.weebly.com
CONTACT:2014937172
ORGANIZER;CN=Ed:https://northeastwheelsevents.com/profile/Ed
ATTACH;FMTTYPE="image/jpeg":https://storage.ning.com/topology/rest/1.0
 /file/get/8553211095?profile=original
ATTENDEE;ROLE=REQ-PARTICIPANT;PARTSTAT=ACCEPTED;RSVP=TRUE;CN=Ed:https:
 //northeastwheelsevents.com/profile/Ed
END:VEVENT
END:VCALENDAR
