BEGIN:VCALENDAR
PRODID:NingEventWidget-v1
VERSION:2.0
METHOD:PUBLISH
BEGIN:VEVENT
UID:5167423:Event:70252
DTSTAMP:20260420T114327Z
SUMMARY:24 Annual Dream Machines Auto Show
DESCRIPTION:24th Annual Dream Machines Motor Club Auto Show\nNet Proce
 eds Going to Local Charities\nHeld at Bloomsburg Municipal Airport\n30
 1 Airport Rd. Bloomsburg PA 17815\nRain or Shine\nPre.Reg. $10.00 - DO
 S $ 15.00\nRegistration from 8:30 - 12:00 Noon\nDash Plaques First 200
  Vehicles\nFlyers /Reg. Forms Web site -  www.thedmmc.org\nContacts
  -Tom 570-275-0748 - Jack - 570-784-9665\nJack -  jacrung@aol.com\nPa
 rticipant Judging\nFood -Flea Market \n32 Classes - 1st, 2nd, 3rd, Pl
 ace Trophies each class\nBest of Show Trophy Car and Truck\nPeople Cho
 ice Trophy\nLargest Club Present Award\nOne class just to show you veh
 icle.(no trophies)\nOne class just for fun called under construction -
  beaters (must be street legal and licensed) 3 Trophies  \nOur featur
 ed class is the Pre 1973 Survivor Vehicles – Special recognition.\n\
 nFor more information visit https://northeastwheelsevents.com/events/2
 4-annual-dream-machines-auto-show
DTSTART:20150614T120000Z
DTEND:20150614T193000Z
CATEGORIES:auto, show
LOCATION:Bloomsburg Municipal Airport
WEBSITE:http://www.thedmmc.org
URL:http://www.thedmmc.org
CONTACT:570- 784-9665
ORGANIZER;CN="Jack Runge":https://northeastwheelsevents.com/profile/Ja
 ckRunge
ATTACH;FMTTYPE="image/jpeg":
ATTENDEE;ROLE=REQ-PARTICIPANT;PARTSTAT=ACCEPTED;RSVP=TRUE;CN="Jack Run
 ge":https://northeastwheelsevents.com/profile/JackRunge
END:VEVENT
END:VCALENDAR
